BEGIN:VCALENDAR
VERSION:2.0
PRODID:-//Robert Bourne Real Estate, LLC - ECPv5.7.1//NONSGML v1.0//EN
CALSCALE:GREGORIAN
METHOD:PUBLISH
X-WR-CALNAME:Robert Bourne Real Estate, LLC
X-ORIGINAL-URL:https://www.robertjbourne.com
X-WR-CALDESC:Events for Robert Bourne Real Estate, LLC
BEGIN:VTIMEZONE
TZID:America/New_York
BEGIN:DAYLIGHT
TZOFFSETFROM:-0500
TZOFFSETTO:-0400
TZNAME:EDT
DTSTART:20210314T070000
END:DAYLIGHT
BEGIN:STANDARD
TZOFFSETFROM:-0400
TZOFFSETTO:-0500
TZNAME:EST
DTSTART:20211107T060000
END:STANDARD
END:VTIMEZONE
BEGIN:VEVENT
DTSTART;TZID=America/New_York:20210731T120000
DTEND;TZID=America/New_York:20210731T150000
DTSTAMP:20260424T101047
CREATED:20210728T185509Z
LAST-MODIFIED:20210728T211823Z
UID:1278-1627732800-1627743600@www.robertjbourne.com
SUMMARY:OPEN HOUSE//9340 NE 9th PLACE\, MIAMI SHORES
DESCRIPTION:Magical Mid-century modern East of US-1 on a quiet street\, Miami Shores. Big fenced/private yard with fruit trees\, patio and room for a pool. Attached 1 car garage with laundry and extra storage. Open floor plan with high ceilings\, huge living room\, great dining area\, and awesome Florida/family room overlooking the garden. Amazing natural light. 2 bedrooms and 2 full baths. Large updated eat-in kitchen with granite and stainless steel\, ample cabinet and countertop space. Natural gas hooked up to the cook-top\, tank-less H2O heater and dryer. Oak and terrazzo floors. Impact windows and doors\, sprinkler system and more. A Must See!
URL:https://www.robertjbourne.com/event/open-house-9340-ne-9th-place-miami-shores/
LOCATION:9340 NE 9th Place\, Miami Shores\, 9340 NE 9th Place\, Miami Shores\, FL\, United States
ORGANIZER;CN="Robert%20Bourne%20Real%20Estate":MAILTO:robertbourne@bellsouth.net
END:VEVENT
END:VCALENDAR