BEGIN:VCALENDAR
VERSION:2.0
PRODID:-//Robert Bourne Real Estate, LLC - ECPv5.7.1//NONSGML v1.0//EN
CALSCALE:GREGORIAN
METHOD:PUBLISH
X-WR-CALNAME:Robert Bourne Real Estate, LLC
X-ORIGINAL-URL:https://www.robertjbourne.com
X-WR-CALDESC:Events for Robert Bourne Real Estate, LLC
BEGIN:VTIMEZONE
TZID:America/New_York
BEGIN:DAYLIGHT
TZOFFSETFROM:-0500
TZOFFSETTO:-0400
TZNAME:EDT
DTSTART:20210314T070000
END:DAYLIGHT
BEGIN:STANDARD
TZOFFSETFROM:-0400
TZOFFSETTO:-0500
TZNAME:EST
DTSTART:20211107T060000
END:STANDARD
END:VTIMEZONE
BEGIN:VEVENT
DTSTART;TZID=America/New_York:20211009T120000
DTEND;TZID=America/New_York:20211009T150000
DTSTAMP:20260424T100927
CREATED:20211009T022919Z
LAST-MODIFIED:20211009T024959Z
UID:1471-1633780800-1633791600@www.robertjbourne.com
SUMMARY:Open House | 9300 Biscayne Boulevard\, Miami Shores
DESCRIPTION:OPEN HOUSE | SATURDAY\, OCTOBER 9 | 12-3PM | 9300 BISCAYNE BOULEVARD\, MIAMI SHORES  \nMIAMI SHORES OASIS\, COMPLETELY WALLED AND FENCED…..LARGE LOT\, VERY PRIVATE. BEAUTIFUL POOL AND OUTSIDE ENTERTAINING AREA\, VERY TROPICAL. 3 BEDS AND 2 FULL BATHS\, ATTACHED ONE CAR GARAGE. TOTALLY UPDATED\, TOP TO BOTTOM. COVERED FRONT PORCH AREA\, GREAT FOR RELAXING. SUPER OPEN FLOORPLAN WITH GREAT VIEWS OF THE GARDEN AND POOL AREA. ORIGINAL WOOD-BURNING FIREPLACE IN THE LIVING ROOM. BIG UPDATED AND OPEN KITCHEN WITH EATING BAR AND ROOM FOR STOOLS. GREAT BEDROOM SPLIT. MASTER BEDROOM IS GIGANTIC WITH TWO WALK-IN CLOSETS AND A SPA-LIKE BATH. MASTER BEDROOM HAS ACCESS TO THE POOL. NEWER ROOF\, PLUMBING\, AND ELECTRIC\, A/C. IMPACT WINDOWS\, SECURITY SYSTEM\, IRRIGATION SYSTEM. VERY CONVENIENT LOCATION\, SUPER CLOSE TO EVERYTHING.
URL:https://www.robertjbourne.com/event/open-house-9300-biscayne-boulevard-miami-shores/
LOCATION:9300 Biscayne Boulevard\, 9300 Biscayne Boulevard\, Miami SHores\, FL
ORGANIZER;CN="Robert%20Bourne%20Real%20Estate":MAILTO:robertbourne@bellsouth.net
END:VEVENT
END:VCALENDAR