BEGIN:VCALENDAR
VERSION:2.0
PRODID:-//Robert Bourne Real Estate, LLC - ECPv5.7.1//NONSGML v1.0//EN
CALSCALE:GREGORIAN
METHOD:PUBLISH
X-WR-CALNAME:Robert Bourne Real Estate, LLC
X-ORIGINAL-URL:https://www.robertjbourne.com
X-WR-CALDESC:Events for Robert Bourne Real Estate, LLC
BEGIN:VTIMEZONE
TZID:America/New_York
BEGIN:DAYLIGHT
TZOFFSETFROM:-0500
TZOFFSETTO:-0400
TZNAME:EDT
DTSTART:20210314T070000
END:DAYLIGHT
BEGIN:STANDARD
TZOFFSETFROM:-0400
TZOFFSETTO:-0500
TZNAME:EST
DTSTART:20211107T060000
END:STANDARD
END:VTIMEZONE
BEGIN:VEVENT
DTSTART;TZID=America/New_York:20210801T120000
DTEND;TZID=America/New_York:20210801T140000
DTSTAMP:20260424T101054
CREATED:20210728T211634Z
LAST-MODIFIED:20210728T211635Z
UID:1290-1627819200-1627826400@www.robertjbourne.com
SUMMARY:OPEN HOUSE//1215 DAYTONIA ROAD\, MIAMI BEACH
DESCRIPTION:OPEN HOUSE\n\nSUNDAY\, AUGUST 1 12-2PM\n\n1215 DAYTONIA ROAD\, MIAMI BEACH\n\nWaterfront home located in Biscayne Point\, a gated community\, close to the beach\, schools\, shops\, cafes and all the conveniences you could ever need. 2 story home with beautiful pool and private backyard. 3 bedrooms and 3 full baths plus a 1/1 attached guest suite or office/bedroom/gym off the kitchen on the first floor. The second floor is all master suite with 2 big closets\, updated bathroom and views of the pool and canal. Super open floor plan\, eat-in updated kitchen. Great natural light and beautiful view of the pool/canal from the main living spaces. Covered parking\, storage room\, some impact windows. Addition in the 1960’s was done by Architect Norman Giller.
URL:https://www.robertjbourne.com/event/open-house-1215-daytonia-road-miami-beach/
LOCATION:1215 Daytonia Road\, Miami Beach\, FL\, United States
ORGANIZER;CN="Robert%20Bourne%20Real%20Estate":MAILTO:robertbourne@bellsouth.net
END:VEVENT
END:VCALENDAR