BEGIN:VCALENDAR
VERSION:2.0
PRODID:-//Robert Bourne Real Estate, LLC - ECPv5.7.1//NONSGML v1.0//EN
CALSCALE:GREGORIAN
METHOD:PUBLISH
X-WR-CALNAME:Robert Bourne Real Estate, LLC
X-ORIGINAL-URL:https://www.robertjbourne.com
X-WR-CALDESC:Events for Robert Bourne Real Estate, LLC
BEGIN:VTIMEZONE
TZID:America/New_York
BEGIN:DAYLIGHT
TZOFFSETFROM:-0500
TZOFFSETTO:-0400
TZNAME:EDT
DTSTART:20210314T070000
END:DAYLIGHT
BEGIN:STANDARD
TZOFFSETFROM:-0400
TZOFFSETTO:-0500
TZNAME:EST
DTSTART:20211107T060000
END:STANDARD
END:VTIMEZONE
BEGIN:VEVENT
DTSTART;TZID=America/New_York:20211103T083000
DTEND;TZID=America/New_York:20211103T093000
DTSTAMP:20260424T101048
CREATED:20211009T024735Z
LAST-MODIFIED:20211009T024737Z
UID:1481-1635928200-1635931800@www.robertjbourne.com
SUMMARY:Miami Shores Community Alliance Meeting
DESCRIPTION:Monthly membership meeting which includes a report from Mayor Sandra Harris.
URL:https://www.robertjbourne.com/event/miami-shores-community-alliance-meeting/
LOCATION:Miami Shores Community Center\, 9617 Park Drive\, Miami Shores\, FL\, 33138\, United States
END:VEVENT
END:VCALENDAR