BEGIN:VCALENDAR
VERSION:2.0
PRODID:-//Robert Bourne Real Estate, LLC - ECPv5.7.1//NONSGML v1.0//EN
CALSCALE:GREGORIAN
METHOD:PUBLISH
X-WR-CALNAME:Robert Bourne Real Estate, LLC
X-ORIGINAL-URL:https://www.robertjbourne.com
X-WR-CALDESC:Events for Robert Bourne Real Estate, LLC
BEGIN:VTIMEZONE
TZID:America/New_York
BEGIN:DAYLIGHT
TZOFFSETFROM:-0500
TZOFFSETTO:-0400
TZNAME:EDT
DTSTART:20210314T070000
END:DAYLIGHT
BEGIN:STANDARD
TZOFFSETFROM:-0400
TZOFFSETTO:-0500
TZNAME:EST
DTSTART:20211107T060000
END:STANDARD
END:VTIMEZONE
BEGIN:VEVENT
DTSTART;TZID=America/New_York:20211108T150000
DTEND;TZID=America/New_York:20211108T183000
DTSTAMP:20260424T101041
CREATED:20211009T031916Z
LAST-MODIFIED:20211009T032537Z
UID:1498-1636383600-1636396200@www.robertjbourne.com
SUMMARY:Holiday Bazaar at Miami Country Day School
DESCRIPTION:Organized by the Parents’ Association\, the Holiday Bazaar offers one stop shopping with a wide-array of vendors.
URL:https://www.robertjbourne.com/event/holiday-bazaar-at-miami-country-day-school/
LOCATION:Miami Country Day School\, 601 NE 107th Street\, Miami\, FL\, United States
CATEGORIES:School
END:VEVENT
END:VCALENDAR