BEGIN:VCALENDAR
VERSION:2.0
PRODID:-//Robert Bourne Real Estate, LLC - ECPv5.7.1//NONSGML v1.0//EN
CALSCALE:GREGORIAN
METHOD:PUBLISH
X-WR-CALNAME:Robert Bourne Real Estate, LLC
X-ORIGINAL-URL:https://www.robertjbourne.com
X-WR-CALDESC:Events for Robert Bourne Real Estate, LLC
BEGIN:VTIMEZONE
TZID:America/New_York
BEGIN:DAYLIGHT
TZOFFSETFROM:-0500
TZOFFSETTO:-0400
TZNAME:EDT
DTSTART:20210314T070000
END:DAYLIGHT
BEGIN:STANDARD
TZOFFSETFROM:-0400
TZOFFSETTO:-0500
TZNAME:EST
DTSTART:20211107T060000
END:STANDARD
END:VTIMEZONE
BEGIN:VEVENT
DTSTART;TZID=America/New_York:20211028T180000
DTEND;TZID=America/New_York:20211028T220000
DTSTAMP:20260424T100915
CREATED:20211019T184957Z
LAST-MODIFIED:20211019T185311Z
UID:1550-1635444000-1635458400@www.robertjbourne.com
SUMMARY:An Evening with Claudia Gontovnik
DESCRIPTION:  \nRobert Bourne + Danny Mizrachi invite you to meet\, celebrate and shop the work of CLAUDIA GONTOVNIK. Enjoy her sustainable and one of a kind pieces created exclusively for the evening.   \n  \nThursday\, October 28 6-10pm 800 NE 2nd Ave/Studio 8   \n  \nRSVP to robertbourne@bellsouth.net/786.281.8376 or cg@claudiagontovnik.com/305.244.0159
URL:https://www.robertjbourne.com/event/an-evening-with-claudia-gontovnik/
LOCATION:8200 NE 2nd Ave\, Miami Shores\, 8200 NE 2nd Ave\, Miami Shores\, FL\, United States
ORGANIZER;CN="Robert%20Bourne%20Real%20Estate":MAILTO:robertbourne@bellsouth.net
END:VEVENT
END:VCALENDAR