BEGIN:VCALENDAR
VERSION:2.0
PRODID:-//Robert Bourne Real Estate, LLC - ECPv5.7.1//NONSGML v1.0//EN
CALSCALE:GREGORIAN
METHOD:PUBLISH
X-WR-CALNAME:Robert Bourne Real Estate, LLC
X-ORIGINAL-URL:https://www.robertjbourne.com
X-WR-CALDESC:Events for Robert Bourne Real Estate, LLC
BEGIN:VTIMEZONE
TZID:America/New_York
BEGIN:DAYLIGHT
TZOFFSETFROM:-0500
TZOFFSETTO:-0400
TZNAME:EDT
DTSTART:20210314T070000
END:DAYLIGHT
BEGIN:STANDARD
TZOFFSETFROM:-0400
TZOFFSETTO:-0500
TZNAME:EST
DTSTART:20211107T060000
END:STANDARD
END:VTIMEZONE
BEGIN:VEVENT
DTSTART;TZID=America/New_York:20211201T080000
DTEND;TZID=America/New_York:20211201T213000
DTSTAMP:20260424T114142
CREATED:20211009T033152Z
LAST-MODIFIED:20211009T033238Z
UID:1509-1638345600-1638394200@www.robertjbourne.com
SUMMARY:Miami Shores Community Alliance Meeting
DESCRIPTION:Monthly membership meeting
URL:https://www.robertjbourne.com/event/miami-shores-community-alliance-meeting-2/
LOCATION:Miami Shores Community Center\, 9617 Park Drive\, Miami Shores\, FL\, 33138\, United States
CATEGORIES:Community
END:VEVENT
BEGIN:VEVENT
DTSTART;TZID=America/New_York:20211023T090000
DTEND;TZID=America/New_York:20211023T120000
DTSTAMP:20260424T114142
CREATED:20211009T035104Z
LAST-MODIFIED:20211009T035107Z
UID:1526-1634979600-1634990400@www.robertjbourne.com
SUMMARY:Shred Day and Prescription Drug Take Back Day
DESCRIPTION:The #MSPD will be hosting Shred Day and Prescription Drug Take Back Day on Saturday\, October 23\, 2021 from 9 AM to 12 PM at the Presbyterian Church south parking lot.\n\n \n\nShredding done on site.\n\nUp to five boxes of paper.\n\nDrop off pharmaceutical products in original container with personal information removed.
URL:https://www.robertjbourne.com/event/shred-day-and-prescription-drug-take-back-day/
LOCATION:Miami Shores Presbyterian Church\, 602 NE 96 Street\, Miami Shores\, FL\, 33138\, United States
CATEGORIES:Community
END:VEVENT
END:VCALENDAR